BEGIN:VCALENDAR
VERSION:2.0
PRODID:-//Viviendo Tijuana - ECPv6.15.13//NONSGML v1.0//EN
CALSCALE:GREGORIAN
METHOD:PUBLISH
X-WR-CALNAME:Viviendo Tijuana
X-ORIGINAL-URL:https://viviendotijuana.com
X-WR-CALDESC:Eventos para Viviendo Tijuana
REFRESH-INTERVAL;VALUE=DURATION:PT1H
X-Robots-Tag:noindex
X-PUBLISHED-TTL:PT1H
BEGIN:VTIMEZONE
TZID:America/Tijuana
BEGIN:DAYLIGHT
TZOFFSETFROM:-0800
TZOFFSETTO:-0700
TZNAME:PDT
DTSTART:20240310T100000
END:DAYLIGHT
BEGIN:STANDARD
TZOFFSETFROM:-0700
TZOFFSETTO:-0800
TZNAME:PST
DTSTART:20241103T090000
END:STANDARD
BEGIN:DAYLIGHT
TZOFFSETFROM:-0800
TZOFFSETTO:-0700
TZNAME:PDT
DTSTART:20250309T100000
END:DAYLIGHT
BEGIN:STANDARD
TZOFFSETFROM:-0700
TZOFFSETTO:-0800
TZNAME:PST
DTSTART:20251102T090000
END:STANDARD
BEGIN:DAYLIGHT
TZOFFSETFROM:-0800
TZOFFSETTO:-0700
TZNAME:PDT
DTSTART:20260308T100000
END:DAYLIGHT
BEGIN:STANDARD
TZOFFSETFROM:-0700
TZOFFSETTO:-0800
TZNAME:PST
DTSTART:20261101T090000
END:STANDARD
END:VTIMEZONE
BEGIN:VEVENT
DTSTART;TZID=America/Tijuana:20251128T200000
DTEND;TZID=America/Tijuana:20251128T220000
DTSTAMP:20260422T013823
CREATED:20251104T091201Z
LAST-MODIFIED:20251104T091201Z
UID:9130-1764360000-1764367200@viviendotijuana.com
SUMMARY:Risas Garantizadas: Pur de Patos con Cojo Feliz y Tío Rober en Tijuana
DESCRIPTION:Si te urge una buena dosis de humor negro e irreverente\, prepárate. El Cojo Feliz y el Tío Rober traen su show “Pur de Patos” a Tijuana este viernes 28 de noviembre en el Teatro Zaragoza. \n¿Por Qué Deberías Ir?\nEstos dos son conocidos por no tener pelos en la lengua y por ser dos de las figuras clave de “La Hora Feliz”. Su show en vivo es una garantía de risas\, chistes pasados de lanza y esa química única que tienen. Es el plan perfecto para desestresarte antes de que acabe el mes. \nSi eres fan de su podcast o simplemente te gusta la comedia sin censura\, no te puedes perder este show. ¡Asegura tu lugar!
URL:https://viviendotijuana.com/event/pur-de-patos-tijuana-noviembre-2025/
LOCATION:TEATRO ZARAGOZA\, Calle Salvador Díaz Mirón 4ta\, 7673\, Zona Centro\, Tijuana\, Baja California\, 22000\, Mexico
CATEGORIES:Comedia y Stand-up
END:VEVENT
END:VCALENDAR