BEGIN:VCALENDAR
VERSION:2.0
PRODID:-//Viviendo Tijuana - ECPv6.15.13//NONSGML v1.0//EN
CALSCALE:GREGORIAN
METHOD:PUBLISH
X-WR-CALNAME:Viviendo Tijuana
X-ORIGINAL-URL:https://viviendotijuana.com
X-WR-CALDESC:Eventos para Viviendo Tijuana
REFRESH-INTERVAL;VALUE=DURATION:PT1H
X-Robots-Tag:noindex
X-PUBLISHED-TTL:PT1H
BEGIN:VTIMEZONE
TZID:America/Tijuana
BEGIN:DAYLIGHT
TZOFFSETFROM:-0800
TZOFFSETTO:-0700
TZNAME:PDT
DTSTART:20240310T100000
END:DAYLIGHT
BEGIN:STANDARD
TZOFFSETFROM:-0700
TZOFFSETTO:-0800
TZNAME:PST
DTSTART:20241103T090000
END:STANDARD
BEGIN:DAYLIGHT
TZOFFSETFROM:-0800
TZOFFSETTO:-0700
TZNAME:PDT
DTSTART:20250309T100000
END:DAYLIGHT
BEGIN:STANDARD
TZOFFSETFROM:-0700
TZOFFSETTO:-0800
TZNAME:PST
DTSTART:20251102T090000
END:STANDARD
BEGIN:DAYLIGHT
TZOFFSETFROM:-0800
TZOFFSETTO:-0700
TZNAME:PDT
DTSTART:20260308T100000
END:DAYLIGHT
BEGIN:STANDARD
TZOFFSETFROM:-0700
TZOFFSETTO:-0800
TZNAME:PST
DTSTART:20261101T090000
END:STANDARD
END:VTIMEZONE
BEGIN:VEVENT
DTSTART;TZID=America/Tijuana:20251107T210000
DTEND;TZID=America/Tijuana:20251107T233000
DTSTAMP:20260420T024526
CREATED:20251104T090301Z
LAST-MODIFIED:20251104T090301Z
UID:9121-1762549200-1762558200@viviendotijuana.com
SUMMARY:Manuel Medrano Celebrará 10 Años de Carrera en El Foro de Tijuana
DESCRIPTION:¡Atención\, románticos! Manuel Medrano\, el ganador de dos Latin Grammys\, pisará Tijuana para celebrar una década de carrera. La cita es el viernes 7 de noviembre en El Foro\, y viene con su “10 Años Tour”\, una gira que promete un recorrido por todos sus éxitos. \n¿Por Qué Deberías Ir?\nDesde que nos voló la cabeza con su álbum debut\, Medrano se ha consolidado como un must del pop latino. Esta gira es la fiesta oficial de ese aniversario; viene con banda completa\, un nuevo sencillo llamado “Mariposas en el pecho” y\, obvio\, los himnos como “Bajo el Agua” y “Afuera del Planeta”. \nSi te late el pop que se canta con sentimiento\, esta es tu noche. Ver a Medrano en la icónica Av. Revolución es el plan perfecto para arrancar el fin de semana. ¡No te quedes fuera de la celebración!
URL:https://viviendotijuana.com/event/manuel-medrano-tijuana-noviembre-2025/
LOCATION:EL FORO ANTIGUO PALACIO JAI ALAI\, Avenida Revolución 1500\, Zona Centro\, Tijuana\, Baja California\, 22000\, Mexico
CATEGORIES:Conciertos y Tocadas
END:VEVENT
END:VCALENDAR