BEGIN:VCALENDAR
VERSION:2.0
PRODID:-//Viviendo Tijuana - ECPv6.15.13//NONSGML v1.0//EN
CALSCALE:GREGORIAN
METHOD:PUBLISH
X-WR-CALNAME:Viviendo Tijuana
X-ORIGINAL-URL:https://viviendotijuana.com
X-WR-CALDESC:Eventos para Viviendo Tijuana
REFRESH-INTERVAL;VALUE=DURATION:PT1H
X-Robots-Tag:noindex
X-PUBLISHED-TTL:PT1H
BEGIN:VTIMEZONE
TZID:America/Tijuana
BEGIN:DAYLIGHT
TZOFFSETFROM:-0800
TZOFFSETTO:-0700
TZNAME:PDT
DTSTART:20240310T100000
END:DAYLIGHT
BEGIN:STANDARD
TZOFFSETFROM:-0700
TZOFFSETTO:-0800
TZNAME:PST
DTSTART:20241103T090000
END:STANDARD
BEGIN:DAYLIGHT
TZOFFSETFROM:-0800
TZOFFSETTO:-0700
TZNAME:PDT
DTSTART:20250309T100000
END:DAYLIGHT
BEGIN:STANDARD
TZOFFSETFROM:-0700
TZOFFSETTO:-0800
TZNAME:PST
DTSTART:20251102T090000
END:STANDARD
BEGIN:DAYLIGHT
TZOFFSETFROM:-0800
TZOFFSETTO:-0700
TZNAME:PDT
DTSTART:20260308T100000
END:DAYLIGHT
BEGIN:STANDARD
TZOFFSETFROM:-0700
TZOFFSETTO:-0800
TZNAME:PST
DTSTART:20261101T090000
END:STANDARD
END:VTIMEZONE
BEGIN:VEVENT
DTSTART;VALUE=DATE:20251206
DTEND;VALUE=DATE:20251208
DTSTAMP:20260420T023213
CREATED:20251104T093013Z
LAST-MODIFIED:20251104T093013Z
UID:9158-1765011600-1765130400@viviendotijuana.com
SUMMARY:Festival de las Aves de la Bahía de San Quintín
DESCRIPTION:Plan de fin de semana para los amantes de la naturaleza. El Festival de las Aves de la Bahía de San Quintín se llevará a cabo el 6 y 7 de diciembre\, organizado por Terra Peninsular A.C. \n¿Por Qué Deberías Ir?\nEs una escapada perfecta para desconectarse y disfrutar de uno de los tesoros naturales de Baja California. El festival se centra en el ecoturismo\, la observación de aves y la conservación. \nEs una oportunidad increíble para conocer la biodiversidad de la bahía y apoyar a las organizaciones locales. ¡Un plan diferente para cerrar el año!
URL:https://viviendotijuana.com/event/festival-de-las-aves-san-quintin-2025/
LOCATION:Bahía de San Quintín\, Bahía de San Quintín\, San Quintín\, Baja California\, 22930\, Mexico
CATEGORIES:Eventos Culturales,Festivales
END:VEVENT
END:VCALENDAR